BEGIN:VCALENDAR
VERSION:2.0
PRODID:-//ChamberMaster//Event Calendar 2.0//EN
METHOD:PUBLISH
X-PUBLISHED-TTL:P3D
REFRESH-INTERVAL:P3D
CALSCALE:GREGORIAN
BEGIN:VEVENT
DTSTART:20130404T233000Z
DTEND:20130530T233000Z
X-MICROSOFT-CDO-ALLDAYEVENT:FALSE
SUMMARY:BIODANCE~ a Group Coaching Experience...
DESCRIPTION:$145 for entire series. Materials included.
X-ALT-DESC;FMTTYPE=text/html:$145 for entire series. Materials included.
LOCATION:Location: SHIFT studio\, 1520 West First Ave\, Grandview Heights\, Ohio 43212.
UID:e.671.143
SEQUENCE:3
DTSTAMP:20260421T031150Z
URL:http://grandviewchamber.chambermaster.com/events/details/biodance-a-group-coaching-experience-04-04-2013-143
END:VEVENT

END:VCALENDAR
