BEGIN:VCALENDAR
VERSION:2.0
PRODID:-//ChamberMaster//Event Calendar 2.0//EN
METHOD:PUBLISH
X-PUBLISHED-TTL:P3D
REFRESH-INTERVAL:P3D
CALSCALE:GREGORIAN
BEGIN:VEVENT
DTSTART:20130517T120000Z
DTEND:20130517T160000Z
X-MICROSOFT-CDO-ALLDAYEVENT:FALSE
SUMMARY:Business Accelerator Program
DESCRIPTION:American Family Insurance presents this FREE workshop to teach you how to create a high performing business.  RSVP by May 10th for your chance to win an iPad!  To reseve a seat visit:  amfambusinessaccelerator.com
X-ALT-DESC;FMTTYPE=text/html:American Family Insurance presents this FREE workshop to teach you how to create a high performing business.&nbsp\; RSVP by May 10th for your chance to win an iPad!&nbsp\; To reseve a seat visit:&nbsp\; amfambusinessaccelerator.com<br />\n
LOCATION:Hilton Columbus Polaris
UID:e.671.224
SEQUENCE:3
DTSTAMP:20260421T214553Z
URL:http://grandviewchamber.chambermaster.com/events/details/business-accelerator-program-05-17-2013-224
END:VEVENT

END:VCALENDAR
