BEGIN:VCALENDAR
VERSION:2.0
PRODID:-//ChamberMaster//Event Calendar 2.0//EN
METHOD:PUBLISH
X-PUBLISHED-TTL:P3D
REFRESH-INTERVAL:P3D
CALSCALE:GREGORIAN
BEGIN:VEVENT
DTSTART:20130426T140000Z
DTEND:20130426T220000Z
X-MICROSOFT-CDO-ALLDAYEVENT:FALSE
SUMMARY:Golf Outing Benefiting FORE HOPE
DESCRIPTION:Normal\n  0\n  \n  \n  false\n  false\n  false\n  \n   \n   \n   \n   \n   \n  \n  MicrosoftInternetExplorer4\n \n\n\n	4 Person Team Scramble   10am Shotgun\n\n	$85 per person - $340 Foursome\n\n	Includes: Green / Cart Fee\, Prizes\, Range Balls & Meal\n\n	Option: Cash Skins Game - $20 Per Team\n\n	Winners: 1st & 2nd Place Gift Certificates\n\n	Lunch Provided by Roosters\, Columbus\, OH\n\n	Registration Deadline: April 12th\n\n \n \n\n\nst1\\:*{behavior:url(#ieooui) }\n\n\n\n /* Style Definitions */\n table.MsoNormalTable\n	{mso-style-name:"Table Normal"\;\n	mso-tstyle-rowband-size:0\;\n	mso-tstyle-colband-size:0\;\n	mso-style-noshow:yes\;\n	mso-style-parent:""\;\n	mso-padding-alt:0in 5.4pt 0in 5.4pt\;\n	mso-para-margin:0in\;\n	mso-para-margin-bottom:.0001pt\;\n	mso-pagination:widow-orphan\;\n	font-size:10.0pt\;\n	font-family:"Times New Roman"\;\n	mso-ansi-language:#0400\;\n	mso-fareast-language:#0400\;\n	mso-bidi-language:#0400\;}
X-ALT-DESC;FMTTYPE=text/html:<!--[if gte mso 9]><xml>\n <w:WordDocument>\n  <w:View>Normal</w:View>\n  <w:Zoom>0</w:Zoom>\n  <w:PunctuationKerning/>\n  <w:ValidateAgainstSchemas/>\n  <w:SaveIfXMLInvalid>false</w:SaveIfXMLInvalid>\n  <w:IgnoreMixedContent>false</w:IgnoreMixedContent>\n  <w:AlwaysShowPlaceholderText>false</w:AlwaysShowPlaceholderText>\n  <w:Compatibility>\n   <w:BreakWrappedTables/>\n   <w:SnapToGridInCell/>\n   <w:WrapTextWithPunct/>\n   <w:UseAsianBreakRules/>\n   <w:DontGrowAutofit/>\n  </w:Compatibility>\n  <w:BrowserLevel>MicrosoftInternetExplorer4</w:BrowserLevel>\n </w:WordDocument>\n</xml><![endif]-->\n<p class="MsoNormal">\n	<span style="font-size:14.0pt">4 Person Team Scramble &ndash\; 10am Shotgun</span></p>\n<p class="MsoNormal">\n	<span style="font-size:14.0pt">$85 per person - $340 Foursome</span></p>\n<p class="MsoNormal">\n	<span style="font-size:14.0pt">Includes: Green / Cart Fee\, Prizes\, Range Balls &amp\; Meal</span></p>\n<p class="MsoNormal">\n	<span style="font-size:14.0pt">Option: Cash Skins Game - $20 Per Team</span></p>\n<p class="MsoNormal">\n	<span style="font-size:14.0pt">Winners: 1<sup>st</sup> &amp\; 2<sup>nd</sup> Place Gift Certificates</span></p>\n<p class="MsoNormal">\n	<span style="font-size:14.0pt">Lunch Provided by Roosters\, Columbus\, OH</span></p>\n<p class="MsoNormal">\n	<span style="font-size:14.0pt">Registration Deadline: April 12<sup>th</sup></span></p>\n<!--[if gte mso 9]><xml>\n <w:LatentStyles DefLockedState="false" LatentStyleCount="156">\n </w:LatentStyles>\n</xml><![endif]--><!--[if !mso]><object\n classid="clsid:38481807-CA0E-42D2-BF39-B33AF135CC4D" id=ieooui></object>\n<style>\nst1\\:*{behavior:url(#ieooui) }\n</style>\n<![endif]--><!--[if gte mso 10]>\n<style>\n /* Style Definitions */\n table.MsoNormalTable\n	{mso-style-name:"Table Normal"\;\n	mso-tstyle-rowband-size:0\;\n	mso-tstyle-colband-size:0\;\n	mso-style-noshow:yes\;\n	mso-style-parent:""\;\n	mso-padding-alt:0in 5.4pt 0in 5.4pt\;\n	mso-para-margin:0in\;\n	mso-para-margin-bottom:.0001pt\;\n	mso-pagination:widow-orphan\;\n	font-size:10.0pt\;\n	font-family:"Times New Roman"\;\n	mso-ansi-language:#0400\;\n	mso-fareast-language:#0400\;\n	mso-bidi-language:#0400\;}\n</style>\n<![endif]-->
LOCATION:Mohican Hills Golf Course 25 Ashland County Road Jeromesville\, OH 44840
UID:e.671.221
SEQUENCE:3
DTSTAMP:20260423T014957Z
URL:http://grandviewchamber.chambermaster.com/events/details/golf-outing-benefiting-fore-hope-04-26-2013-221
END:VEVENT

END:VCALENDAR
